{"text_format":"1","workbook":"xlsx","n_sheets":14,"sheets":["様式１ (記入例)","様式１","様式２","様式３","①","②","③","④","⑤","⑥","⑦","⑧","⑨","⑩"],"not_rendered":{"charts":0,"images":0,"macros":1,"external_links":0,"defined_names":14,"comments":1,"pivot_tables":0},"unopened":[],"bounds":{"document_bytes":16777216,"sheet_cells":100000,"rows_first":2000,"rows_last":500,"rows_between":2000,"halvings":0,"cell_chars":16384,"cell_head_chars":4096},"cells_cut":0,"cells_raw":0,"read":"whole","date_system":"1900"}

{"sheet":"様式１ (記入例)","index":0,"n_rows":41,"n_cols":12,"rows_kept":41,"cut":false,"hidden":false,"merged":[[40,8,41,8],[38,1,39,1],[38,2,39,3],[38,4,39,5],[38,6,39,6],[38,7,39,7],[38,8,39,8],[40,1,41,1],[40,2,41,3],[40,4,41,5],[40,6,41,6],[40,7,41,7],[36,8,37,8],[34,1,35,1],[34,2,35,3],[34,4,35,5],[34,6,35,6],[34,7,35,7],[34,8,35,8],[36,1,37,1],[36,2,37,3],[36,4,37,5],[36,6,37,6],[36,7,37,7],[32,8,33,8],[30,1,31,1],[30,2,31,3],[30,4,31,5],[30,6,31,6],[30,7,31,7],[30,8,31,8],[32,1,33,1],[32,2,33,3],[32,4,33,5],[32,6,33,6],[32,7,33,7],[24,8,25,8],[28,8,29,8],[26,1,27,1],[26,2,27,3],[26,4,27,5],[26,6,27,6],[26,7,27,7],[26,8,27,8],[28,1,29,1],[28,2,29,3],[28,4,29,5],[28,6,29,6],[28,7,29,7],[20,0,41,0],[20,1,21,1],[20,2,21,3],[20,4,21,5],[20,6,20,8],[22,1,23,1],[22,2,23,3],[22,4,23,5],[22,6,23,6],[22,7,23,7],[22,8,23,8],[24,1,25,1],[24,2,25,3],[24,4,25,5],[24,6,25,6],[24,7,25,7],[16,0,19,0],[16,1,16,5],[16,6,16,8],[17,1,17,5],[17,6,17,8],[18,1,18,8],[19,1,19,8],[11,1,11,8],[12,0,15,0],[12,2,12,3],[12,4,12,5],[12,6,15,8],[13,4,13,5],[14,4,14,5],[15,4,15,5],[2,0,2,8],[4,6,4,8],[6,1,6,3],[7,1,7,3],[8,0,9,0],[8,1,9,3],[8,5,8,8],[9,5,9,8]]}
["（様式１）",null,null,null,null,null,null,null,null,"○"]
[null,null,null,null,null,null,null,null,null,"×"]
["引率外競技役員派遣依頼申請書"]
[]
[null,null,null,null,null,"請求日","2022-06-03"]
[null,null,null,null,null,null,null,null,null,null,"○○専門部","○○　○○"]
["専門部名","○○専門部",null,null,null,null,null,null,null,null,"アーチェリー専門部","島田　俊明"]
["専門部長名",{"$f":"VLOOKUP(B7,$K$6:$L$41,2,1)","v":"○○　○○"},null,null,null,null,null,null,null,null,"ウエイトリフティング専門部","貞井　俊哉"]
["担当者\n職氏名","委員長　○○　○○",null,null,"e-mail","abcdefghi@jkl.com",null,null,null,null,"ゴルフ専門部","安藤　正晴"]
[null,null,null,null,"FAX","082-○○○-○○○○",null,null,null,null,"サッカー専門部","沖田　浩二"]
[null,null,null,null,null,null,null,null,null,null,"スキー専門部","工藤　宏一"]
["大会名","第75回広島県高等学校総合体育大会",null,null,null,null,null,null,null,null,"ソフトテニス専門部","山垣内　雅彦"]
["大会日時",null,"期日",null,"用務時間",null,"※複数の週にまたがって開催する場合や複数の会場を使用する場合は，週ごと，会場ごとに分けて申請してください。",null,null,null,"ソフトボール専門部","髙山　望"]
[null,1,"2022-06-03",{"$f":"TEXT(C14,\"(aaa)\")","v":"(金)"},"9:00～16:00",null,null,null,null,{"$f":"TEXT(C14,\"gggge年m月d日\")&D14","v":"令和4年6月3日(金)"},"テニス専門部","若狹　健吾"]
[null,2,"2022-06-04",{"$f":"TEXT(C15,\"(aaa)\")","v":"(土)"},"9:00～16:00",null,null,null,null,{"$f":"TEXT(C15,\"gggge年m月d日\")&D15","v":"令和4年6月4日(土)"},"なぎなた専門部","好村　孝則"]
[null,3,"2022-06-05","(日)","9:00～16:00",null,null,null,null,"令和4年6月5日(日)","バスケットボール専門部","柳　智子"]
["会　　場","会場名",null,null,null,null,"電話番号",null,null,null,"バドミントン専門部","山田　哲也"]
[null,"広島県立総合体育館",null,null,null,null,"082-228-1111",null,null,null,"バレーボール専門部","金澤　宏"]
[null,"住所",null,null,null,null,null,null,null,null,"ハンドボール専門部","藤本　寅肇"]
[null,"広島市中区基町４－１",null,null,null,null,null,null,null,null,"フェンシング専門部","中原　健次"]
["引率外\n\n\n\n競技役員",null,"役員名\n※姓と名の間に全角スペースを入れてください。",null,"所属\n※高等学校以上の正式名称を入力。",null,"派遣日",null,null,null,"ボート専門部","藤本　寅肇"]
[null,null,null,null,null,null,1,2,3,null,"ボクシング専門部","絹谷　徹"]
[null,1,"△△　△△",null,"広島県立△△",null,"○","○","○",null,"ホッケー専門部","今川　孝徳"]
[null,null,null,null,null,null,null,null,null,null,"ヨット専門部","大林　秀則"]
[null,2,"□□　□□",null,"□□大学附属",null,"×","○","○",null,"ライフル射撃専門部","工藤　宏一"]
[null,null,null,null,null,null,null,null,null,null,"ラグビーフットボール専門部","吉村　薫"]
[null,3,"◇◇　◇◇",null,"◇◇女子",null,"○","○","×",null,"レスリング専門部","大林　秀則"]
[null,null,null,null,null,null,null,null,null,null,"弓道専門部","矢野　修嗣"]
[null,4,"☆☆　☆☆",null,"広島市立☆☆",null,"×","○","×",null,"空手道専門部","高橋　真"]
[null,null,null,null,null,null,null,null,null,null,"剣道専門部","野依　英二"]
[null,5,"★★　★★",null,"広島県立★★",null,"○","○","○",null,"研究部","奥迫　啓志"]
[null,null,null,null,null,null,null,null,null,null,"自転車競技専門部","岡田　雄一　"]
[null,6,"◆◆　◆◆",null,"◆◆",null,"×","○","○",null,"柔道専門部","山口　健治"]
[null,null,null,null,null,null,null,null,null,null,"少林寺拳法専門部","松井　太"]
[null,7,"■■　■■",null,"■■大学附属",null,"○","○","×",null,"水泳専門部","田玄　和司"]
[null,null,null,null,null,null,null,null,null,null,"相撲専門部","的場　忍"]
[null,8,"●●　●●",null,"●●女子",null,"×","○","×",null,"体操専門部","倉田　雄司"]
[null,null,null,null,null,null,null,null,null,null,"卓球専門部","斎藤　美由紀"]
[null,9,"◎◎　◎◎",null,"広島市立◎◎",null,"○","○","○",null,"定通部","開　英治"]
[null,null,null,null,null,null,null,null,null,null,"登山専門部","田中　勲"]
[null,10,"▲▲　▲▲",null,"広島県立▲▲",null,"×","○","○",null,"陸上競技専門部","澄川　利之"]

{"sheet":"様式１","index":1,"n_rows":41,"n_cols":12,"rows_kept":41,"cut":false,"hidden":false,"merged":[[22,4,23,5],[8,5,8,8],[9,5,9,8],[24,4,25,5],[26,4,27,5],[26,6,27,6],[26,7,27,7],[26,8,27,8],[8,0,9,0],[8,1,9,3],[13,4,13,5],[12,4,12,5],[14,4,14,5],[12,0,15,0],[4,6,4,8],[18,1,18,8],[19,1,19,8],[16,1,16,5],[17,1,17,5],[12,6,15,8],[16,6,16,8],[15,4,15,5],[12,2,12,3],[38,6,39,6],[38,7,39,7],[38,8,39,8],[40,6,41,6],[40,7,41,7],[40,8,41,8],[34,6,35,6],[34,7,35,7],[34,8,35,8],[36,6,37,6],[36,7,37,7],[36,8,37,8],[30,6,31,6],[30,7,31,7],[30,8,31,8],[32,6,33,6],[32,7,33,7],[32,8,33,8],[28,6,29,6],[28,7,29,7],[28,8,29,8],[22,8,23,8],[22,6,23,6],[22,7,23,7],[24,6,25,6],[24,7,25,7],[24,8,25,8],[20,1,21,1],[20,2,21,3],[20,6,20,8],[17,6,17,8],[20,4,21,5],[36,4,37,5],[38,4,39,5],[40,4,41,5],[34,1,35,1],[34,2,35,3],[36,1,37,1],[34,4,35,5],[40,1,41,1],[38,1,39,1],[36,2,37,3],[38,2,39,3],[40,2,41,3],[28,2,29,3],[30,2,31,3],[32,2,33,3],[28,1,29,1],[30,1,31,1],[16,0,19,0],[22,2,23,3],[2,0,2,8],[20,0,41,0],[22,1,23,1],[24,1,25,1],[26,1,27,1],[11,1,11,8],[6,1,6,3],[7,1,7,3],[28,4,29,5],[30,4,31,5],[32,4,33,5],[24,2,25,3],[26,2,27,3],[32,1,33,1]]}
["（様式１）",null,null,null,null,null,null,null,null,"○"]
[null,null,null,null,null,null,null,null,null,"×"]
["引率外競技役員派遣依頼申請書"]
[]
[null,null,null,null,null,"請求日"]
[]
["専門部名",null,null,null,null,null,null,null,null,null,"陸上競技専門部","竹志　幸洋"]
["専門部長名",{"$f":"IF(B7=\"\",\"\",VLOOKUP(B7,$K$6:$L$41,2,FALSE))","v":""},null,null,null,null,null,null,null,null,"水泳専門部","三浦　秀行"]
["担当者\n職氏名",null,null,null,"e-mail",null,null,null,null,null,"体操専門部","井上 学"]
[null,null,null,null,"FAX",null,null,null,null,null,"ボート専門部","山口　健治"]
[null,null,null,null,null,null,null,null,null,null,"ヨット専門部","森田　達己　"]
["大会名",null,null,null,null,null,null,null,null,null,"登山専門部","田中　勲"]
["大会日時",null,"期日",null,"用務時間",null,"※複数の週にまたがって開催する場合や複数の会場を使用する場合は，週ごと，会場ごとに分けて申請してください。",null,null,null,"スキー専門部","二川 一成"]
[null,1,null,{"$f":"TEXT(C14,\"(aaa)\")","v":"(土)"},null,null,null,null,null,{"$f":"IF(C14=\"\",\"\",TEXT(C14,\"gggge年m月d日\")&D14)","v":""},"ﾊﾞｽｹｯﾄﾎﾞｰﾙ専門部","柳　　智子"]
[null,2,null,{"$f":"TEXT(C15,\"(aaa)\")","v":"(土)"},null,null,null,null,null,{"$f":"IF(C15=\"\",\"\",TEXT(C15,\"gggge年m月d日\")&D15)","v":""},"ﾊﾝﾄﾞﾎﾞｰﾙ専門部","中間　忠"]
[null,3,null,"(土)",null,null,null,null,null,{"$f":"IF(C16=\"\",\"\",TEXT(C16,\"gggge年m月d日\")&D16)","v":""},"ﾊﾞﾚｰﾎﾞｰﾙ専門部","坂本 伸宏"]
["会　　場","会場名",null,null,null,null,"電話番号",null,null,null,"ｿﾌﾄﾃﾆｽ専門部","河野　幸浩"]
[null,null,null,null,null,null,null,null,null,null,"テニス専門部","横山　尚司"]
[null,"住所",null,null,null,null,null,null,null,null,"卓球専門部","斎藤　美由紀"]
[null,null,null,null,null,null,null,null,null,null,"サッカー専門部","沖田　浩二"]
["引率外\n\n\n\n競技役員",null,"役員名\n※姓と名の間に全角スペースを入れてください。",null,"所属\n※高等学校以上の正式名称を入力。",null,"派遣日",null,null,null,"ﾗｸﾞﾋﾞｰﾌｯﾄﾎﾞｰﾙ専門部","神田　浩二"]
[null,null,null,null,null,null,1,2,3,null,"ｿﾌﾄﾎﾞｰﾙ専門部","倉田　雄司"]
[null,1,null,null,null,null,null,null,null,null,"ﾊﾞﾄﾞﾐﾝﾄﾝ専門部","森田　晋也"]
[null,null,null,null,null,null,null,null,null,null,"柔道専門部","山口　健治"]
[null,2,null,null,null,null,null,null,null,null,"剣道専門部","平田　浩一"]
[null,null,null,null,null,null,null,null,null,null,"相撲専門部","梶白　博志"]
[null,3,null,null,null,null,null,null,null,null,"弓道専門部","川中　延晃"]
[null,null,null,null,null,null,null,null,null,null,"ﾚｽﾘﾝｸﾞ専門部","應本　哲夫"]
[null,4,null,null,null,null,null,null,null,null,"ﾎﾞｸｼﾝｸﾞ専門部","松尾 　耕司"]
[null,null,null,null,null,null,null,null,null,null,"ｳｴｲﾄﾘﾌﾃｨﾝｸﾞ専門部","來山  直司"]
[null,5,null,null,null,null,null,null,null,null,"ﾌｪﾝｼﾝｸﾞ専門部","中原　健次"]
[null,null,null,null,null,null,null,null,null,null,"自転車競技専門部","中川　耕治"]
[null,6,null,null,null,null,null,null,null,null,"ｱｰﾁｪﾘｰ専門部","藤田　春恵"]
[null,null,null,null,null,null,null,null,null,null,"空手道専門部","齊藤  賢二"]
[null,7,null,null,null,null,null,null,null,null,"少林寺拳法専門部","髙田　芳幸"]
[null,null,null,null,null,null,null,null,null,null,"なぎなた専門部","大林　秀則"]
[null,8,null,null,null,null,null,null,null,null,"ホッケー専門部","葉柳　津盛"]
[null,null,null,null,null,null,null,null,null,null,"ゴルフ専門部","岡田　隆治"]
[null,9,null,null,null,null,null,null,null,null,"ライフル射撃専門部","二川 　一成"]
[null,null,null,null,null,null,null,null,null,null,"定時制・通信制部専門部","井林　秀樹"]
[null,10,null,null,null,null,null,null,null,null,"研究部専門部","梶白　博志"]

{"sheet":"様式２","index":2,"n_rows":48,"n_cols":14,"rows_kept":48,"cut":false,"hidden":false,"merged":[[10,3,11,3],[44,6,44,9],[10,0,11,0],[10,1,11,1],[9,0,9,1],[42,12,42,13],[42,10,42,11],[39,9,41,9],[39,10,41,10],[39,11,41,11],[39,12,41,12],[39,13,41,13],[30,11,32,11],[30,12,32,12],[30,13,32,13],[33,4,35,4],[33,5,35,5],[33,6,35,6],[33,7,35,7],[33,8,35,8],[27,9,29,9],[27,10,29,10],[27,11,29,11],[27,12,29,12],[8,6,8,7],[8,8,8,12],[36,9,38,9],[36,10,38,10],[36,11,38,11],[36,12,38,12],[36,13,38,13],[39,4,41,4],[39,5,41,5],[39,6,41,6],[39,7,41,7],[39,8,41,8],[33,9,35,9],[33,10,35,10],[33,11,35,11],[33,12,35,12],[33,13,35,13],[36,4,38,4],[36,5,38,5],[36,6,38,6],[36,7,38,7],[36,8,38,8],[30,9,32,9],[30,10,32,10],[30,4,32,4],[30,5,32,5],[30,6,32,6],[30,7,32,7],[30,8,32,8],[24,9,26,9],[24,10,26,10],[24,11,26,11],[24,12,26,12],[21,6,23,6],[21,7,23,7],[21,8,23,8],[24,13,26,13],[27,4,29,4],[27,5,29,5],[27,6,29,6],[27,7,29,7],[27,8,29,8],[21,9,23,9],[21,10,23,10],[21,11,23,11],[21,12,23,12],[21,13,23,13],[24,4,26,4],[24,5,26,5],[24,6,26,6],[24,7,26,7],[24,8,26,8],[27,13,29,13],[15,9,17,9],[15,10,17,10],[15,11,17,11],[15,12,17,12],[15,13,17,13],[18,4,20,4],[18,5,20,5],[18,6,20,6],[18,7,20,7],[18,8,20,8],[18,9,20,9],[18,10,20,10],[18,11,20,11],[18,12,20,12],[18,13,20,13],[39,2,41,2],[15,4,17,4],[15,5,17,5],[15,6,17,6],[15,7,17,7],[15,8,17,8],[27,2,29,2],[30,1,32,1],[30,2,32,2],[33,1,35,1],[33,2,35,2],[36,1,38,1],[36,2,38,2],[15,1,17,1],[15,2,17,2],[18,1,20,1],[18,2,20,2],[21,1,23,1],[21,2,23,2],[24,1,26,1],[24,2,26,2],[27,1,29,1],[21,4,23,4],[21,5,23,5],[12,11,14,11],[12,12,14,12],[12,13,14,13],[12,4,14,4],[12,5,14,5],[12,6,14,6],[12,7,14,7],[12,8,14,8],[12,9,14,9],[12,2,14,2],[45,6,46,11],[10,2,11,2],[10,4,10,10],[10,12,11,12],[10,13,11,13],[0,0,0,13],[2,1,2,2],[4,14,7,15],[4,1,4,2],[6,6,6,13],[27,0,29,0],[30,0,32,0],[33,0,35,0],[36,0,38,0],[39,0,41,0],[12,1,14,1],[39,1,41,1],[12,0,14,0],[15,0,17,0],[18,0,20,0],[21,0,23,0],[24,0,26,0],[12,10,14,10]]}
["引率外競技役員交通費補助金請求・受領書"]
[]
[null,"次のとおり請求します。"]
[]
[null,{"$f":"IF(様式１!G5=\"\",\"\",様式１!G5)","v":""}]
[]
[null,null,null,null,null,null,{"$f":"IF(様式１!B7=\"\",\"\",様式１!B7)","v":""}]
[]
[null,null,null,null,null,null,"部　長",null,{"$f":"様式１!B8","v":""}]
["交通費明細"]
[null,"名　前","所　属","派遣日","片　道　交　通　費",null,null,null,null,null,null,"往　復","宿泊費","合計"]
[null,null,null,null,"バ ス","JR","特急","市電","船/アスト","バ ス","計","交通費"]
[1,{"$f":"様式１!$C23","v":0},{"$f":"様式１!$E23","v":0},{"$f":"IF(様式１!G23=様式１!$J$1,様式１!$J$14,\"\")","v":""},null,null,null,null,null,null,{"$f":"SUM(E13:J13)","v":0},{"$f":"SUM(K13*2)","v":0},{"$f":"IF(L13<7600,0,7600*(COUNTIF(様式１!G23:I24,様式１!$J$1)-1))","v":0},{"$f":"IF(L13<7600,L13*COUNTIF(様式１!G23:I24,様式１!$J$1),L13+M13)","v":0}]
[null,null,null,{"$f":"IF(様式１!H23=様式１!$J$1,様式１!$J$15,\"\")","v":""}]
[null,null,null,{"$f":"IF(様式１!I23=様式１!$J$1,様式１!$J$16,\"\")","v":""}]
[2,{"$f":"様式１!$C25","v":0},{"$f":"様式１!$E25","v":0},{"$f":"IF(様式１!G25=様式１!$J$1,様式１!$J$14,\"\")","v":""},null,null,null,null,null,null,{"$f":"SUM(E16:J16)","v":0},{"$f":"SUM(K16*2)","v":0},{"$f":"IF(L16<7600,0,7600*(COUNTIF(様式１!G25:I26,様式１!$J$1)-1))","v":0},{"$f":"IF(L16<7600,L16*COUNTIF(様式１!G25:I26,様式１!$J$1),L16+M16)","v":0}]
[null,null,null,{"$f":"IF(様式１!H25=様式１!$J$1,様式１!$J$15,\"\")","v":""}]
[null,null,null,{"$f":"IF(様式１!I25=様式１!$J$1,様式１!$J$16,\"\")","v":""}]
[3,{"$f":"様式１!$C27","v":0},{"$f":"様式１!$E27","v":0},{"$f":"IF(様式１!G27=様式１!$J$1,様式１!$J$14,\"\")","v":""},null,null,null,null,null,null,{"$f":"SUM(E19:J19)","v":0},{"$f":"SUM(K19*2)","v":0},{"$f":"IF(L19<7600,0,7600*(COUNTIF(様式１!G27:I28,様式１!$J$1)-1))","v":0},{"$f":"IF(L19<7600,L19*COUNTIF(様式１!G27:I28,様式１!$J$1),L19+M19)","v":0}]
[null,null,null,{"$f":"IF(様式１!H27=様式１!$J$1,様式１!$J$15,\"\")","v":""}]
[null,null,null,{"$f":"IF(様式１!I27=様式１!$J$1,様式１!$J$16,\"\")","v":""}]
[4,{"$f":"様式１!$C29","v":0},{"$f":"様式１!$E29","v":0},{"$f":"IF(様式１!G29=様式１!$J$1,様式１!$J$14,\"\")","v":""},null,null,null,null,null,null,{"$f":"SUM(E22:J22)","v":0},{"$f":"SUM(K22*2)","v":0},{"$f":"IF(L22<7600,0,7600*(COUNTIF(様式１!G29:I30,様式１!$J$1)-1))","v":0},{"$f":"IF(L22<7600,L22*COUNTIF(様式１!G29:I30,様式１!$J$1),L22+M22)","v":0}]
[null,null,null,{"$f":"IF(様式１!H29=様式１!$J$1,様式１!$J$15,\"\")","v":""}]
[null,null,null,{"$f":"IF(様式１!I29=様式１!$J$1,様式１!$J$16,\"\")","v":""}]
[5,{"$f":"様式１!$C31","v":0},{"$f":"様式１!$E31","v":0},{"$f":"IF(様式１!G31=様式１!$J$1,様式１!$J$14,\"\")","v":""},null,null,null,null,null,null,{"$f":"SUM(E25:J25)","v":0},{"$f":"SUM(K25*2)","v":0},{"$f":"IF(L25<7600,0,7600*(COUNTIF(様式１!G31:I32,様式１!$J$1)-1))","v":0},{"$f":"IF(L25<7600,L25*COUNTIF(様式１!G31:I32,様式１!$J$1),L25+M25)","v":0}]
[null,null,null,{"$f":"IF(様式１!H31=様式１!$J$1,様式１!$J$15,\"\")","v":""}]
[null,null,null,{"$f":"IF(様式１!I31=様式１!$J$1,様式１!$J$16,\"\")","v":""}]
[6,{"$f":"様式１!$C33","v":0},{"$f":"様式１!$E33","v":0},{"$f":"IF(様式１!G33=様式１!$J$1,様式１!$J$14,\"\")","v":""},null,null,null,null,null,null,{"$f":"SUM(E28:J28)","v":0},{"$f":"SUM(K28*2)","v":0},{"$f":"IF(L28<7600,0,7600*(COUNTIF(様式１!G33:I34,様式１!$J$1)-1))","v":0},{"$f":"IF(L28<7600,L28*COUNTIF(様式１!G33:I34,様式１!$J$1),L28+M28)","v":0}]
[null,null,null,{"$f":"IF(様式１!H33=様式１!$J$1,様式１!$J$15,\"\")","v":""}]
[null,null,null,{"$f":"IF(様式１!I33=様式１!$J$1,様式１!$J$16,\"\")","v":""}]
[7,{"$f":"様式１!$C35","v":0},{"$f":"様式１!$E35","v":0},{"$f":"IF(様式１!G35=様式１!$J$1,様式１!$J$14,\"\")","v":""},null,null,null,null,null,null,{"$f":"SUM(E31:J31)","v":0},{"$f":"SUM(K31*2)","v":0},{"$f":"IF(L31<7600,0,7600*(COUNTIF(様式１!G35:I36,様式１!$J$1)-1))","v":0},{"$f":"IF(L31<7600,L31*COUNTIF(様式１!G35:I36,様式１!$J$1),L31+M31)","v":0}]
[null,null,null,{"$f":"IF(様式１!H35=様式１!$J$1,様式１!$J$15,\"\")","v":""}]
[null,null,null,{"$f":"IF(様式１!I35=様式１!$J$1,様式１!$J$16,\"\")","v":""}]
[8,{"$f":"様式１!$C37","v":0},{"$f":"様式１!$E37","v":0},{"$f":"IF(様式１!G37=様式１!$J$1,様式１!$J$14,\"\")","v":""},null,null,null,null,null,null,{"$f":"SUM(E34:J34)","v":0},{"$f":"SUM(K34*2)","v":0},{"$f":"IF(L34<7600,0,7600*(COUNTIF(様式１!G37:I38,様式１!$J$1)-1))","v":0},{"$f":"IF(L34<7600,L34*COUNTIF(様式１!G37:I38,様式１!$J$1),L34+M34)","v":0}]
[null,null,null,{"$f":"IF(様式１!H37=様式１!$J$1,様式１!$J$15,\"\")","v":""}]
[null,null,null,{"$f":"IF(様式１!I37=様式１!$J$1,様式１!$J$16,\"\")","v":""}]
[9,{"$f":"様式１!$C39","v":0},{"$f":"様式１!$E39","v":0},{"$f":"IF(様式１!G39=様式１!$J$1,様式１!$J$14,\"\")","v":""},null,null,null,null,null,null,{"$f":"SUM(E37:J37)","v":0},{"$f":"SUM(K37*2)","v":0},{"$f":"IF(L37<7600,0,7600*(COUNTIF(様式１!G39:I40,様式１!$J$1)-1))","v":0},{"$f":"IF(L37<7600,L37*COUNTIF(様式１!G39:I40,様式１!$J$1),L37+M37)","v":0}]
[null,null,null,{"$f":"IF(様式１!H39=様式１!$J$1,様式１!$J$15,\"\")","v":""}]
[null,null,null,{"$f":"IF(様式１!I39=様式１!$J$1,様式１!$J$16,\"\")","v":""}]
[10,{"$f":"様式１!$C41","v":0},{"$f":"様式１!$E41","v":0},{"$f":"IF(様式１!G41=様式１!$J$1,様式１!$J$14,\"\")","v":""},null,null,null,null,null,null,{"$f":"SUM(E40:J40)","v":0},{"$f":"SUM(K40*2)","v":0},{"$f":"IF(L40<7600,0,7600*(COUNTIF(様式１!G41:I42,様式１!$J$1)-1))","v":0},{"$f":"IF(L40<7600,L40*COUNTIF(様式１!G41:I42,様式１!$J$1),L40+M40)","v":0}]
[null,null,null,{"$f":"IF(様式１!H41=様式１!$J$1,様式１!$J$15,\"\")","v":""}]
[null,null,null,{"$f":"IF(様式１!I41=様式１!$J$1,様式１!$J$16,\"\")","v":""}]
[null,null,null,null,null,null,null,null,null,null," 合　計",null,{"$f":"SUM(N13:N42)","v":0}]
[null,"上記のとおり受領しました。"]
[null,"令和　　年　　　月　　　日",null,null,null,null,{"$f":"G7","v":""}]
[null,null,null,null,null,null,"受領者署名　　　　　　　　　　　　　　　　　　"]
[]
[null,"広島県高等学校体育連盟　　様"]

{"sheet":"様式３","index":3,"n_rows":37,"n_cols":15,"rows_kept":37,"cut":false,"hidden":false,"merged":[[0,0,0,14],[5,1,5,2],[6,1,6,2],[4,3,4,14],[5,3,5,14],[6,3,6,14],[8,9,9,14],[12,0,13,0],[10,14,11,14],[10,1,11,1],[10,2,11,2],[10,4,10,10],[10,12,11,12],[10,13,11,13],[10,0,11,0],[7,11,7,14],[8,1,8,4],[4,1,4,2],[7,9,7,10],[12,13,13,13],[12,14,13,14],[12,7,13,7],[12,8,13,8],[14,0,15,0],[16,0,17,0],[18,0,19,0],[20,0,21,0],[24,0,25,0],[28,0,29,0],[30,10,31,10],[30,11,31,11],[30,12,31,12],[30,1,31,1],[30,2,31,2],[30,0,31,0],[28,9,29,9],[28,10,29,10],[28,11,29,11],[28,12,29,12],[26,10,27,10],[26,11,27,11],[26,12,27,12],[26,0,27,0],[24,9,25,9],[24,10,25,10],[24,11,25,11],[26,1,27,1],[30,13,31,13],[30,14,31,14],[32,10,32,11],[32,12,32,14],[30,4,31,4],[30,5,31,5],[30,6,31,6],[30,7,31,7],[30,8,31,8],[30,9,31,9],[28,13,29,13],[28,14,29,14],[28,4,29,4],[28,5,29,5],[28,6,29,6],[28,7,29,7],[28,8,29,8],[28,1,29,1],[28,2,29,2],[26,13,27,13],[26,14,27,14],[26,4,27,4],[26,5,27,5],[26,6,27,6],[26,7,27,7],[26,8,27,8],[26,9,27,9],[26,2,27,2],[24,1,25,1],[24,2,25,2],[22,10,23,10],[22,11,23,11],[22,12,23,12],[22,13,23,13],[22,14,23,14],[22,4,23,4],[22,5,23,5],[22,6,23,6],[22,7,23,7],[22,8,23,8],[22,9,23,9],[22,1,23,1],[22,2,23,2],[24,12,25,12],[24,13,25,13],[24,14,25,14],[24,4,25,4],[24,5,25,5],[24,6,25,6],[24,7,25,7],[24,8,25,8],[18,14,19,14],[18,4,19,4],[18,5,19,5],[18,6,19,6],[18,7,19,7],[18,8,19,8],[18,9,19,9],[22,0,23,0],[20,9,21,9],[20,10,21,10],[20,11,21,11],[20,12,21,12],[20,13,21,13],[20,14,21,14],[20,4,21,4],[20,5,21,5],[20,6,21,6],[20,7,21,7],[20,8,21,8],[20,1,21,1],[20,2,21,2],[18,1,19,1],[18,2,19,2],[18,10,19,10],[16,14,17,14],[16,5,17,5],[16,6,17,6],[16,7,17,7],[16,8,17,8],[16,9,17,9],[16,10,17,10],[16,1,17,1],[16,2,17,2],[16,4,17,4],[16,11,17,11],[16,12,17,12],[18,11,19,11],[18,12,19,12],[14,1,15,1],[14,2,15,2],[14,4,15,4],[14,5,15,5],[14,12,15,12],[14,13,15,13],[16,13,17,13],[18,13,19,13],[14,14,15,14],[14,6,15,6],[14,7,15,7],[12,9,13,9],[12,10,13,10],[12,11,13,11],[12,12,13,12],[12,1,13,1],[12,2,13,2],[12,4,13,4],[12,5,13,5],[12,6,13,6],[14,8,15,8],[14,9,15,9],[14,10,15,10],[14,11,15,11]]}
["引率外競技役員交通費補助領収書"]
[]
[null,"次のとおり領収しました。"]
[]
[null,"１．期    日",null,{"$f":"様式１!J14&IF(様式１!J15=\"\",\"\",\",\")&様式１!J15&IF(様式１!J16=\"\",\"\",\",\")&様式１!J16","v":""}]
[null,"２．会    場",null,{"$f":"様式１!B18","v":0}]
[null,"３．大 会 名",null,{"$f":"様式１!B12","v":0}]
[null,null,null,null,null,null,null,null,null,"会計責任者署名",null,{"$f":"様式１!B7","v":0}]
[null,"広島県高等学校体育連盟　　様"]
["交通費明細"]
[null,"名　前","所　属","参加方法","片　道　交　通　費",null,null,null,null,null,null,"往　復","宿泊費","合計","受領者\n署名"]
[null,null,null,"(いずれかに○)","バ ス","JR","特急","市電","船/アスト","バ ス","計","交通費"]
[1,{"$f":"様式１!$C23","v":0},{"$f":"様式１!$E23","v":0},"公務出張",{"$f":"様式２!E13","v":0},{"$f":"様式２!F13","v":0},{"$f":"様式２!G13","v":0},{"$f":"様式２!H13","v":0},{"$f":"様式２!I13","v":0},{"$f":"様式２!J13","v":0},{"$f":"様式２!K13","v":0},{"$f":"様式２!L13","v":0},{"$f":"様式２!M13","v":0},{"$f":"様式２!N13","v":0}]
[null,null,null,"公務外"]
[2,{"$f":"様式１!$C25","v":0},{"$f":"様式１!$E25","v":0},"公務出張",{"$f":"様式２!E16","v":0},{"$f":"様式２!F16","v":0},{"$f":"様式２!G16","v":0},{"$f":"様式２!H16","v":0},{"$f":"様式２!I16","v":0},{"$f":"様式２!J16","v":0},{"$f":"様式２!K16","v":0},{"$f":"様式２!L16","v":0},{"$f":"様式２!M16","v":0},{"$f":"様式２!N16","v":0}]
[null,null,null,"公務外"]
[3,{"$f":"様式１!$C27","v":0},{"$f":"様式１!$E27","v":0},"公務出張",{"$f":"様式２!E19","v":0},{"$f":"様式２!F19","v":0},{"$f":"様式２!G19","v":0},{"$f":"様式２!H19","v":0},{"$f":"様式２!I19","v":0},{"$f":"様式２!J19","v":0},{"$f":"様式２!K19","v":0},{"$f":"様式２!L19","v":0},{"$f":"様式２!M19","v":0},{"$f":"様式２!N19","v":0}]
[null,null,null,"公務外"]
[4,{"$f":"様式１!$C29","v":0},{"$f":"様式１!$E29","v":0},"公務出張",{"$f":"様式２!E22","v":0},{"$f":"様式２!F22","v":0},{"$f":"様式２!G22","v":0},{"$f":"様式２!H22","v":0},{"$f":"様式２!I22","v":0},{"$f":"様式２!J22","v":0},{"$f":"様式２!K22","v":0},{"$f":"様式２!L22","v":0},{"$f":"様式２!M22","v":0},{"$f":"様式２!N22","v":0}]
[null,null,null,"公務外"]
[5,{"$f":"様式１!$C31","v":0},{"$f":"様式１!$E31","v":0},"公務出張",{"$f":"様式２!E25","v":0},{"$f":"様式２!F25","v":0},{"$f":"様式２!G25","v":0},{"$f":"様式２!H25","v":0},{"$f":"様式２!I25","v":0},{"$f":"様式２!J25","v":0},{"$f":"様式２!K25","v":0},{"$f":"様式２!L25","v":0},{"$f":"様式２!M25","v":0},{"$f":"様式２!N25","v":0}]
[null,null,null,"公務外"]
[6,{"$f":"様式１!$C33","v":0},{"$f":"様式１!$E33","v":0},"公務出張",{"$f":"様式２!E28","v":0},{"$f":"様式２!F28","v":0},{"$f":"様式２!G28","v":0},{"$f":"様式２!H28","v":0},{"$f":"様式２!I28","v":0},{"$f":"様式２!J28","v":0},{"$f":"様式２!K28","v":0},{"$f":"様式２!L28","v":0},{"$f":"様式２!M28","v":0},{"$f":"様式２!N28","v":0}]
[null,null,null,"公務外"]
[7,{"$f":"様式１!$C35","v":0},{"$f":"様式１!$E35","v":0},"公務出張",{"$f":"様式２!E31","v":0},{"$f":"様式２!F31","v":0},{"$f":"様式２!G31","v":0},{"$f":"様式２!H31","v":0},{"$f":"様式２!I31","v":0},{"$f":"様式２!J31","v":0},{"$f":"様式２!K31","v":0},{"$f":"様式２!L31","v":0},{"$f":"様式２!M31","v":0},{"$f":"様式２!N31","v":0}]
[null,null,null,"公務外"]
[8,{"$f":"様式１!$C37","v":0},{"$f":"様式１!$E37","v":0},"公務出張",{"$f":"様式２!E34","v":0},{"$f":"様式２!F34","v":0},{"$f":"様式２!G34","v":0},{"$f":"様式２!H34","v":0},{"$f":"様式２!I34","v":0},{"$f":"様式２!J34","v":0},{"$f":"様式２!K34","v":0},{"$f":"様式２!L34","v":0},{"$f":"様式２!M34","v":0},{"$f":"様式２!N34","v":0}]
[null,null,null,"公務外"]
[9,{"$f":"様式１!$C39","v":0},{"$f":"様式１!$E39","v":0},"公務出張",{"$f":"様式２!E37","v":0},{"$f":"様式２!F37","v":0},{"$f":"様式２!G37","v":0},{"$f":"様式２!H37","v":0},{"$f":"様式２!I37","v":0},{"$f":"様式２!J37","v":0},{"$f":"様式２!K37","v":0},{"$f":"様式２!L37","v":0},{"$f":"様式２!M37","v":0},{"$f":"様式２!N37","v":0}]
[null,null,null,"公務外"]
[10,{"$f":"様式１!$C41","v":0},{"$f":"様式１!$E41","v":0},"公務出張",{"$f":"様式２!E40","v":0},{"$f":"様式２!F40","v":0},{"$f":"様式２!G40","v":0},{"$f":"様式２!H40","v":0},{"$f":"様式２!I40","v":0},{"$f":"様式２!J40","v":0},{"$f":"様式２!K40","v":0},{"$f":"様式２!L40","v":0},{"$f":"様式２!M40","v":0},{"$f":"様式２!N40","v":0}]
[null,null,null,"公務外"]
[null,null,null,null,null,null,null,null,null,null," 合　計"]
[null,"　1．交通費は高体連交通費規定による。　"]
[null,"　2．宿泊費は１泊7,600円とする。（往復交通費がこれ以下の場合は、宿泊費を支給しない）"]
[null,"　3．該当者の名前の記載された要項又はプログラムを添付すること。"]
[null,"　4．競技会の都度、事前に請求のこと。(必ず受領者に署名してもらうこと。)"]

{"sheet":"①","index":4,"n_rows":69,"n_cols":10,"rows_kept":69,"cut":false,"hidden":false,"merged":[[26,2,27,8],[59,3,60,9],[65,0,66,0],[67,0,68,0],[18,3,18,4],[30,2,30,4],[28,0,28,1],[32,0,32,1],[35,0,35,1],[32,2,32,8],[33,7,33,8],[33,2,33,5],[26,0,26,1],[28,2,28,4],[29,2,29,4],[61,0,61,1],[0,6,0,8],[6,6,6,8],[8,7,8,8],[7,6,7,8],[11,0,11,8],[64,1,64,8],[59,0,59,1],[43,6,43,8],[54,0,54,8],[46,0,46,2],[47,0,47,2],[48,1,48,2],[51,5,51,8],[61,3,61,4]]}
[null,null,null,null,null,null,{"$f":"様式１!G5","v":"00:00:00"},null,null,{"$f":"\"派遣依頼_\"&様式１!E23&\"_\"&様式１!C23","v":"派遣依頼__"}]
[]
[]
[{"$f":"様式１!E23&\"高等学校長　様\"","v":"高等学校長　様"}]
[]
[]
[null,null,null,null,null,null,"広島県高等学校体育連盟"]
[null,null,null,null,null,null,{"$f":"様式１!B7","v":0}]
[null,null,null,null,null,null,"部長",{"$f":"様式１!B8","v":""}]
[]
[]
["引率外競技役員派遣について（依頼）"]
[]
[]
["　平素から，本専門部の活動に，格別の御理解と御協力を賜り深く感謝申しあげます。"]
[]
["　さて，次のとおり大会を開催いたします。"]
[]
["　　つきましては，貴校　　　　　　　　　　",null,null,{"$f":"様式１!C23","v":0},null,"先生を競技役員に依頼いたします。"]
[]
["　　校務ご多用中とは存じますが，派遣方よろしくお願い申し上げます。"]
[]
["　　今後とも，本専門部の活動に，御理解と御協力を賜りますようお願いいたします。"]
[]
[]
[]
["１　大 会 名",null,{"$f":"様式１!B12","v":0}]
[]
["２　日　　時",null,{"$f":"IF(様式１!$G$23=様式１!$J$1,様式１!J14,\"\")","v":""},null,null,{"$f":"IF(C29=\"\",\"\",様式１!E14)","v":""}]
[null,null,{"$f":"IF(様式１!H23=様式１!$J$1,様式１!J15,\"\")","v":""},null,null,{"$f":"IF(C30=\"\",\"\",様式１!E15)","v":""}]
[null,null,{"$f":"IF(様式１!I23=様式１!$J$1,様式１!J16,\"\")","v":""},null,null,{"$f":"IF(C31=\"\",\"\",様式１!E16)","v":""}]
[]
["３　会　　場",null,{"$f":"様式１!B18","v":0}]
[null,null,{"$f":"様式１!B20","v":0},null,null,null,"TEL:",{"$f":"様式１!G18","v":0}]
[]
["４　そ の 他"]
["　　　・別紙により出張派遣の認否を電子メールまたはFAXでご回答ください。"]
[null,"e-mail",{"$f":"様式１!$F$9","v":0}]
[null,"FAX",{"$f":"様式１!$F$10","v":0}]
["　　　・交通費は県高体連で負担いたします。"]
[]
[]
[]
["（別紙）",null,null,null,null,null,"令和　　年　　月　　日"]
[]
[]
["広島県高等学校体育連盟"]
[{"$f":"様式１!B7","v":0}]
["部長",{"$f":"様式１!B8","v":""},null,"様"]
[]
[]
[null,null,null,null,null,{"$f":"様式１!E23&\"高等学校長\"","v":"高等学校長"}]
[]
[]
["引率外競技役員派遣について（回答）"]
[]
[]
["　下記大会の競技役員として，次の通り回答します。"]
[]
["大   会   名",null,null,{"$f":"C27","v":0}]
[]
["　競技役員氏名",null,null,{"$f":"様式１!C23","v":0}]
[]
["　↓該当するものに○をしてください。"]
["回答"]
[null,"　出張（交通費別途）を承認する",null,null,null,null,null,null,null,"○"]
[null,"　※交通費は高体連負担・公務災害での保険適用"]
[null,"　出張（交通費別途）を承認しない"]
[null,"　※交通費は高体連負担・高体連団体総合補償制度費用保険適用"]

{"sheet":"②","index":5,"n_rows":69,"n_cols":10,"rows_kept":69,"cut":false,"hidden":false,"merged":[[51,5,51,8],[47,0,47,2],[30,2,30,4],[32,0,32,1],[32,2,32,8],[33,2,33,5],[33,7,33,8],[65,0,66,0],[54,0,54,8],[59,0,59,1],[61,0,61,1],[61,3,61,4],[64,1,64,8],[67,0,68,0],[0,6,0,8],[6,6,6,8],[7,6,7,8],[8,7,8,8],[29,2,29,4],[11,0,11,8],[18,3,18,4],[26,0,26,1],[28,0,28,1],[28,2,28,4],[35,0,35,1],[43,6,43,8],[46,0,46,2],[48,1,48,2],[26,2,27,8]]}
[null,null,null,null,null,null,{"$f":"様式１!$G$5","v":"00:00:00"},null,null,{"$f":"\"派遣依頼_\"&様式１!E25&\"_\"&様式１!C25","v":"派遣依頼__"}]
[]
[]
[{"$f":"様式１!$E$25&\"高等学校長　様\"","v":"高等学校長　様"}]
[]
[]
[null,null,null,null,null,null,"広島県高等学校体育連盟"]
[null,null,null,null,null,null,{"$f":"様式１!$B$7","v":0}]
[null,null,null,null,null,null,"部長",{"$f":"様式１!$B$8","v":""}]
[]
[]
["引率外競技役員派遣について（依頼）"]
[]
[]
["　平素から，本専門部の活動に，格別の御理解と御協力を賜り深く感謝申しあげます。"]
[]
["　さて，次のとおり大会を開催いたします。"]
[]
["　　つきましては，貴校　　　　　　　　　　",null,null,{"$f":"様式１!$C$25","v":0},null,"先生を競技役員に依頼いたします。"]
[]
["　　校務ご多用中とは存じますが，派遣方よろしくお願い申し上げます。"]
[]
["　　今後とも，本専門部の活動に，御理解と御協力を賜りますようお願いいたします。"]
[]
[]
[]
["１　大 会 名",null,{"$f":"様式１!B12","v":0}]
[]
["２　日　　時",null,{"$f":"IF(様式１!$G$25=様式１!$J$1,様式１!$J$14,\"\")","v":""},null,null,{"$f":"IF($C$29=\"\",\"\",様式１!$E$14)","v":""}]
[null,null,{"$f":"IF(様式１!$H$25=様式１!$J$1,様式１!$J$15,\"\")","v":""},null,null,{"$f":"IF($C$30=\"\",\"\",様式１!$E$15)","v":""}]
[null,null,{"$f":"IF(様式１!$I$25=様式１!$J$1,様式１!$J$16,\"\")","v":""},null,null,{"$f":"IF($C$31=\"\",\"\",様式１!$E$16)","v":""}]
[]
["３　会　　場",null,{"$f":"様式１!$B$18","v":0}]
[null,null,{"$f":"様式１!$B$20","v":0},null,null,null,"TEL:",{"$f":"様式１!$G$18","v":0}]
[]
["４　そ の 他"]
["　　　・別紙により出張派遣の認否を電子メールまたはFAXでご回答ください。"]
[null,"e-mail",{"$f":"様式１!$F$9","v":0}]
[null,"FAX",{"$f":"様式１!$F$10","v":0}]
["　　　・交通費は県高体連で負担いたします。"]
[]
[]
[]
["（別紙）",null,null,null,null,null,"令和　　年　　月　　日"]
[]
[]
["広島県高等学校体育連盟"]
[{"$f":"様式１!$B$7","v":0}]
["部長",{"$f":"様式１!$B$8","v":""},null,"様"]
[]
[]
[null,null,null,null,null,{"$f":"様式１!$E$25&\"高等学校長\"","v":"高等学校長"}]
[]
[]
["引率外競技役員派遣について（回答）"]
[]
[]
["　下記大会の競技役員として，次の通り回答します。"]
[]
["大   会   名",null,null,{"$f":"C27","v":0}]
[]
["　競技役員氏名",null,null,{"$f":"D19","v":0}]
[]
["　↓該当するものに○をしてください。"]
["回答"]
[null,"　出張（交通費別途）を承認する",null,null,null,null,null,null,null,"○"]
[null,"　※交通費は高体連負担・公務災害での保険適用"]
[null,"　出張（交通費別途）を承認しない"]
[null,"　※交通費は高体連負担・高体連団体総合補償制度費用保険適用"]

{"sheet":"③","index":6,"n_rows":69,"n_cols":10,"rows_kept":69,"cut":false,"hidden":false,"merged":[[51,5,51,8],[47,0,47,2],[30,2,30,4],[32,0,32,1],[32,2,32,8],[33,2,33,5],[33,7,33,8],[59,3,60,8],[65,0,66,0],[54,0,54,8],[59,0,59,1],[61,0,61,1],[61,3,61,4],[64,1,64,8],[67,0,68,0],[0,6,0,8],[6,6,6,8],[7,6,7,8],[8,7,8,8],[29,2,29,4],[11,0,11,8],[18,3,18,4],[26,0,26,1],[28,0,28,1],[28,2,28,4],[35,0,35,1],[43,6,43,8],[46,0,46,2],[48,1,48,2],[26,2,27,8]]}
[null,null,null,null,null,null,{"$f":"様式１!$G$5","v":"00:00:00"},null,null,{"$f":"\"派遣依頼_\"&様式１!E27&\"_\"&様式１!C27","v":"派遣依頼__"}]
[]
[]
[{"$f":"様式１!$E$27&\"高等学校長　様\"","v":"高等学校長　様"}]
[]
[]
[null,null,null,null,null,null,"広島県高等学校体育連盟"]
[null,null,null,null,null,null,{"$f":"様式１!$B$7","v":0}]
[null,null,null,null,null,null,"部長",{"$f":"様式１!$B$8","v":""}]
[]
[]
["引率外競技役員派遣について（依頼）"]
[]
[]
["　平素から，本専門部の活動に，格別の御理解と御協力を賜り深く感謝申しあげます。"]
[]
["　さて，次のとおり大会を開催いたします。"]
[]
["　　つきましては，貴校　　　　　　　　　　",null,null,{"$f":"様式１!$C$27","v":0},null,"先生を競技役員に依頼いたします。"]
[]
["　　校務ご多用中とは存じますが，派遣方よろしくお願い申し上げます。"]
[]
["　　今後とも，本専門部の活動に，御理解と御協力を賜りますようお願いいたします。"]
[]
[]
[]
["１　大 会 名",null,{"$f":"様式１!$B$12","v":0}]
[]
["２　日　　時",null,{"$f":"IF(様式１!$G$27=様式１!$J$1,様式１!$J$14,\"\")","v":""},null,null,{"$f":"IF($C$29=\"\",\"\",様式１!$E$14)","v":""}]
[null,null,{"$f":"IF(様式１!$H$27=様式１!$J$1,様式１!$J$15,\"\")","v":""},null,null,{"$f":"IF($C$30=\"\",\"\",様式１!$E$15)","v":""}]
[null,null,{"$f":"IF(様式１!$I$27=様式１!$J$1,様式１!$J$16,\"\")","v":""},null,null,{"$f":"IF($C$31=\"\",\"\",様式１!$E$16)","v":""}]
[]
["３　会　　場",null,{"$f":"様式１!$B$18","v":0}]
[null,null,{"$f":"様式１!$B$20","v":0},null,null,null,"TEL:",{"$f":"様式１!$G$18","v":0}]
[]
["４　そ の 他"]
["　　　・別紙により出張派遣の認否を電子メールまたはFAXでご回答ください。"]
[null,"e-mail",{"$f":"様式１!$F$9","v":0}]
[null,"FAX",{"$f":"様式１!$F$10","v":0}]
["　　　・交通費は県高体連で負担いたします。"]
[]
[]
[]
["（別紙）",null,null,null,null,null,"令和　　年　　月　　日"]
[]
[]
["広島県高等学校体育連盟"]
[{"$f":"様式１!$B$7","v":0}]
["部長",{"$f":"様式１!$B$8","v":""},null,"様"]
[]
[]
[null,null,null,null,null,{"$f":"様式１!$E$27&\"高等学校長\"","v":"高等学校長"}]
[]
[]
["引率外競技役員派遣について（回答）"]
[]
[]
["　下記大会の競技役員として，次の通り回答します。"]
[]
["大   会   名",null,null,{"$f":"C27","v":0}]
[]
["　競技役員氏名",null,null,{"$f":"D19","v":0}]
[]
["　↓該当するものに○をしてください。"]
["回答"]
[null,"　出張（交通費別途）を承認する",null,null,null,null,null,null,null,"○"]
[null,"　※交通費は高体連負担・公務災害での保険適用"]
[null,"　出張（交通費別途）を承認しない"]
[null,"　※交通費は高体連負担・高体連団体総合補償制度費用保険適用"]

{"sheet":"④","index":7,"n_rows":69,"n_cols":10,"rows_kept":69,"cut":false,"hidden":false,"merged":[[51,5,51,8],[47,0,47,2],[30,2,30,4],[32,0,32,1],[32,2,32,8],[33,2,33,5],[33,7,33,8],[59,3,60,8],[65,0,66,0],[54,0,54,8],[59,0,59,1],[61,0,61,1],[61,3,61,4],[64,1,64,8],[67,0,68,0],[0,6,0,8],[6,6,6,8],[7,6,7,8],[8,7,8,8],[29,2,29,4],[11,0,11,8],[18,3,18,4],[26,0,26,1],[28,0,28,1],[28,2,28,4],[35,0,35,1],[43,6,43,8],[46,0,46,2],[48,1,48,2],[26,2,27,8]]}
[null,null,null,null,null,null,{"$f":"様式１!$G$5","v":"00:00:00"},null,null,{"$f":"\"派遣依頼_\"&様式１!E29&\"_\"&様式１!C29","v":"派遣依頼__"}]
[]
[]
[{"$f":"様式１!$E$29&\"高等学校長　様\"","v":"高等学校長　様"}]
[]
[]
[null,null,null,null,null,null,"広島県高等学校体育連盟"]
[null,null,null,null,null,null,{"$f":"様式１!$B$7","v":0}]
[null,null,null,null,null,null,"部長",{"$f":"様式１!$B$8","v":""}]
[]
[]
["引率外競技役員派遣について（依頼）"]
[]
[]
["　平素から，本専門部の活動に，格別の御理解と御協力を賜り深く感謝申しあげます。"]
[]
["　さて，次のとおり大会を開催いたします。"]
[]
["　　つきましては，貴校　　　　　　　　　　",null,null,{"$f":"様式１!$C$29","v":0},null,"先生を競技役員に依頼いたします。"]
[]
["　　校務ご多用中とは存じますが，派遣方よろしくお願い申し上げます。"]
[]
["　　今後とも，本専門部の活動に，御理解と御協力を賜りますようお願いいたします。"]
[]
[]
[]
["１　大 会 名",null,{"$f":"様式１!$B$12","v":0}]
[]
["２　日　　時",null,{"$f":"IF(様式１!$G$29=様式１!$J$1,様式１!$J$14,\"\")","v":""},null,null,{"$f":"IF($C$29=\"\",\"\",様式１!$E$14)","v":""}]
[null,null,{"$f":"IF(様式１!$H$29=様式１!$J$1,様式１!$J$15,\"\")","v":""},null,null,{"$f":"IF($C$30=\"\",\"\",様式１!$E$15)","v":""}]
[null,null,{"$f":"IF(様式１!$I$29=様式１!$J$1,様式１!$J$16,\"\")","v":""},null,null,{"$f":"IF($C$31=\"\",\"\",様式１!$E$16)","v":""}]
[]
["３　会　　場",null,{"$f":"様式１!$B$18","v":0}]
[null,null,{"$f":"様式１!$B$20","v":0},null,null,null,"TEL:",{"$f":"様式１!$G$18","v":0}]
[]
["４　そ の 他"]
["　　　・別紙により出張派遣の認否を電子メールまたはFAXでご回答ください。"]
[null,"e-mail",{"$f":"様式１!$F$9","v":0}]
[null,"FAX",{"$f":"様式１!$F$10","v":0}]
["　　　・交通費は県高体連で負担いたします。"]
[]
[]
[]
["（別紙）",null,null,null,null,null,"令和　　年　　月　　日"]
[]
[]
["広島県高等学校体育連盟"]
[{"$f":"様式１!$B$7","v":0}]
["部長",{"$f":"様式１!$B$8","v":""},null,"様"]
[]
[]
[null,null,null,null,null,{"$f":"様式１!$E$29&\"高等学校長\"","v":"高等学校長"}]
[]
[]
["引率外競技役員派遣について（回答）"]
[]
[]
["　下記大会の競技役員として，次の通り回答します。"]
[]
["大   会   名",null,null,{"$f":"C27","v":0}]
[]
["　競技役員氏名",null,null,{"$f":"D19","v":0}]
[]
["　↓該当するものに○をしてください。"]
["回答"]
[null,"　出張（交通費別途）を承認する",null,null,null,null,null,null,null,"○"]
[null,"　※交通費は高体連負担・公務災害での保険適用"]
[null,"　出張（交通費別途）を承認しない"]
[null,"　※交通費は高体連負担・高体連団体総合補償制度費用保険適用"]

{"sheet":"⑤","index":8,"n_rows":69,"n_cols":10,"rows_kept":69,"cut":false,"hidden":false,"merged":[[51,5,51,8],[47,0,47,2],[30,2,30,4],[32,0,32,1],[32,2,32,8],[33,2,33,5],[33,7,33,8],[59,3,60,8],[65,0,66,0],[54,0,54,8],[59,0,59,1],[61,0,61,1],[61,3,61,4],[64,1,64,8],[67,0,68,0],[0,6,0,8],[6,6,6,8],[7,6,7,8],[8,7,8,8],[29,2,29,4],[11,0,11,8],[18,3,18,4],[26,0,26,1],[28,0,28,1],[28,2,28,4],[35,0,35,1],[43,6,43,8],[46,0,46,2],[48,1,48,2],[26,2,27,8]]}
[null,null,null,null,null,null,{"$f":"様式１!$G$5","v":"00:00:00"},null,null,{"$f":"\"派遣依頼_\"&様式１!E31&\"_\"&様式１!C31","v":"派遣依頼__"}]
[]
[]
[{"$f":"様式１!$E$31&\"高等学校長　様\"","v":"高等学校長　様"}]
[]
[]
[null,null,null,null,null,null,"広島県高等学校体育連盟"]
[null,null,null,null,null,null,{"$f":"様式１!$B$7","v":0}]
[null,null,null,null,null,null,"部長",{"$f":"様式１!$B$8","v":""}]
[]
[]
["引率外競技役員派遣について（依頼）"]
[]
[]
["　平素から，本専門部の活動に，格別の御理解と御協力を賜り深く感謝申しあげます。"]
[]
["　さて，次のとおり大会を開催いたします。"]
[]
["　　つきましては，貴校　　　　　　　　　　",null,null,{"$f":"様式１!$C$31","v":0},null,"先生を競技役員に依頼いたします。"]
[]
["　　校務ご多用中とは存じますが，派遣方よろしくお願い申し上げます。"]
[]
["　　今後とも，本専門部の活動に，御理解と御協力を賜りますようお願いいたします。"]
[]
[]
[]
["１　大 会 名",null,{"$f":"様式１!$B$12","v":0}]
[]
["２　日　　時",null,{"$f":"IF(様式１!$G$31=様式１!$J$1,様式１!$J$14,\"\")","v":""},null,null,{"$f":"IF($C$29=\"\",\"\",様式１!$E$14)","v":""}]
[null,null,{"$f":"IF(様式１!$H$31=様式１!$J$1,様式１!$J$15,\"\")","v":""},null,null,{"$f":"IF($C$30=\"\",\"\",様式１!$E$15)","v":""}]
[null,null,{"$f":"IF(様式１!$I$31=様式１!$J$1,様式１!$J$16,\"\")","v":""},null,null,{"$f":"IF($C$31=\"\",\"\",様式１!$E$16)","v":""}]
[]
["３　会　　場",null,{"$f":"様式１!$B$18","v":0}]
[null,null,{"$f":"様式１!$B$20","v":0},null,null,null,"TEL:",{"$f":"様式１!$G$18","v":0}]
[]
["４　そ の 他"]
["　　　・別紙により出張派遣の認否を電子メールまたはFAXでご回答ください。"]
[null,"e-mail",{"$f":"様式１!$F$9","v":0}]
[null,"FAX",{"$f":"様式１!$F$10","v":0}]
["　　　・交通費は県高体連で負担いたします。"]
[]
[]
[]
["（別紙）",null,null,null,null,null,"令和　　年　　月　　日"]
[]
[]
["広島県高等学校体育連盟"]
[{"$f":"様式１!$B$7","v":0}]
["部長",{"$f":"様式１!$B$8","v":""},null,"様"]
[]
[]
[null,null,null,null,null,{"$f":"様式１!$E$31&\"高等学校長\"","v":"高等学校長"}]
[]
[]
["引率外競技役員派遣について（回答）"]
[]
[]
["　下記大会の競技役員として，次の通り回答します。"]
[]
["大   会   名",null,null,{"$f":"C27","v":0}]
[]
["　競技役員氏名",null,null,{"$f":"D19","v":0}]
[]
["　↓該当するものに○をしてください。"]
["回答"]
[null,"　出張（交通費別途）を承認する",null,null,null,null,null,null,null,"○"]
[null,"　※交通費は高体連負担・公務災害での保険適用"]
[null,"　出張（交通費別途）を承認しない"]
[null,"　※交通費は高体連負担・高体連団体総合補償制度費用保険適用"]

{"sheet":"⑥","index":9,"n_rows":69,"n_cols":10,"rows_kept":69,"cut":false,"hidden":false,"merged":[[51,5,51,8],[47,0,47,2],[30,2,30,4],[32,0,32,1],[32,2,32,8],[33,2,33,5],[33,7,33,8],[59,3,60,8],[65,0,66,0],[54,0,54,8],[59,0,59,1],[61,0,61,1],[61,3,61,4],[64,1,64,8],[67,0,68,0],[0,6,0,8],[6,6,6,8],[7,6,7,8],[8,7,8,8],[29,2,29,4],[11,0,11,8],[18,3,18,4],[26,0,26,1],[28,0,28,1],[28,2,28,4],[35,0,35,1],[43,6,43,8],[46,0,46,2],[48,1,48,2],[26,2,27,8]]}
[null,null,null,null,null,null,{"$f":"様式１!$G$5","v":"00:00:00"},null,null,{"$f":"\"派遣依頼_\"&様式１!E33&\"_\"&様式１!C33","v":"派遣依頼__"}]
[]
[]
[{"$f":"様式１!$E$33&\"高等学校長　様\"","v":"高等学校長　様"}]
[]
[]
[null,null,null,null,null,null,"広島県高等学校体育連盟"]
[null,null,null,null,null,null,{"$f":"様式１!$B$7","v":0}]
[null,null,null,null,null,null,"部長",{"$f":"様式１!$B$8","v":""}]
[]
[]
["引率外競技役員派遣について（依頼）"]
[]
[]
["　平素から，本専門部の活動に，格別の御理解と御協力を賜り深く感謝申しあげます。"]
[]
["　さて，次のとおり大会を開催いたします。"]
[]
["　　つきましては，貴校　　　　　　　　　　",null,null,{"$f":"様式１!$C$33","v":0},null,"先生を競技役員に依頼いたします。"]
[]
["　　校務ご多用中とは存じますが，派遣方よろしくお願い申し上げます。"]
[]
["　　今後とも，本専門部の活動に，御理解と御協力を賜りますようお願いいたします。"]
[]
[]
[]
["１　大 会 名",null,{"$f":"様式１!$B$12","v":0}]
[]
["２　日　　時",null,{"$f":"IF(様式１!$G$33=様式１!$J$1,様式１!$J$14,\"\")","v":""},null,null,{"$f":"IF($C$29=\"\",\"\",様式１!$E$14)","v":""}]
[null,null,{"$f":"IF(様式１!$H$33=様式１!$J$1,様式１!$J$15,\"\")","v":""},null,null,{"$f":"IF($C$30=\"\",\"\",様式１!$E$15)","v":""}]
[null,null,{"$f":"IF(様式１!$I$33=様式１!$J$1,様式１!$J$16,\"\")","v":""},null,null,{"$f":"IF($C$31=\"\",\"\",様式１!$E$16)","v":""}]
[]
["３　会　　場",null,{"$f":"様式１!$B$18","v":0}]
[null,null,{"$f":"様式１!$B$20","v":0},null,null,null,"TEL:",{"$f":"様式１!$G$18","v":0}]
[]
["４　そ の 他"]
["　　　・別紙により出張派遣の認否を電子メールまたはFAXでご回答ください。"]
[null,"e-mail",{"$f":"様式１!$F$9","v":0}]
[null,"FAX",{"$f":"様式１!$F$10","v":0}]
["　　　・交通費は県高体連で負担いたします。"]
[]
[]
[]
["（別紙）",null,null,null,null,null,"令和　　年　　月　　日"]
[]
[]
["広島県高等学校体育連盟"]
[{"$f":"様式１!$B$7","v":0}]
["部長",{"$f":"様式１!$B$8","v":""},null,"様"]
[]
[]
[null,null,null,null,null,{"$f":"様式１!$E$33&\"高等学校長\"","v":"高等学校長"}]
[]
[]
["引率外競技役員派遣について（回答）"]
[]
[]
["　下記大会の競技役員として，次の通り回答します。"]
[]
["大   会   名",null,null,{"$f":"C27","v":0}]
[]
["　競技役員氏名",null,null,{"$f":"D19","v":0}]
[]
["　↓該当するものに○をしてください。"]
["回答"]
[null,"　出張（交通費別途）を承認する",null,null,null,null,null,null,null,"○"]
[null,"　※交通費は高体連負担・公務災害での保険適用"]
[null,"　出張（交通費別途）を承認しない"]
[null,"　※交通費は高体連負担・高体連団体総合補償制度費用保険適用"]

{"sheet":"⑦","index":10,"n_rows":69,"n_cols":10,"rows_kept":69,"cut":false,"hidden":false,"merged":[[51,5,51,8],[47,0,47,2],[30,2,30,4],[32,0,32,1],[32,2,32,8],[33,2,33,5],[33,7,33,8],[59,3,60,8],[65,0,66,0],[54,0,54,8],[59,0,59,1],[61,0,61,1],[61,3,61,4],[64,1,64,8],[67,0,68,0],[0,6,0,8],[6,6,6,8],[7,6,7,8],[8,7,8,8],[29,2,29,4],[11,0,11,8],[18,3,18,4],[26,0,26,1],[28,0,28,1],[28,2,28,4],[35,0,35,1],[43,6,43,8],[46,0,46,2],[48,1,48,2],[26,2,27,8]]}
[null,null,null,null,null,null,{"$f":"様式１!$G$5","v":"00:00:00"},null,null,{"$f":"\"派遣依頼_\"&様式１!E35&\"_\"&様式１!C35","v":"派遣依頼__"}]
[]
[]
[{"$f":"様式１!$E$35&\"高等学校長　様\"","v":"高等学校長　様"}]
[]
[]
[null,null,null,null,null,null,"広島県高等学校体育連盟"]
[null,null,null,null,null,null,{"$f":"様式１!$B$7","v":0}]
[null,null,null,null,null,null,"部長",{"$f":"様式１!$B$8","v":""}]
[]
[]
["引率外競技役員派遣について（依頼）"]
[]
[]
["　平素から，本専門部の活動に，格別の御理解と御協力を賜り深く感謝申しあげます。"]
[]
["　さて，次のとおり大会を開催いたします。"]
[]
["　　つきましては，貴校　　　　　　　　　　",null,null,{"$f":"様式１!$C$35","v":0},null,"先生を競技役員に依頼いたします。"]
[]
["　　校務ご多用中とは存じますが，派遣方よろしくお願い申し上げます。"]
[]
["　　今後とも，本専門部の活動に，御理解と御協力を賜りますようお願いいたします。"]
[]
[]
[]
["１　大 会 名",null,{"$f":"様式１!$B$12","v":0}]
[]
["２　日　　時",null,{"$f":"IF(様式１!$G$35=様式１!$J$1,様式１!$J$14,\"\")","v":""},null,null,{"$f":"IF($C$29=\"\",\"\",様式１!$E$14)","v":""}]
[null,null,{"$f":"IF(様式１!$H$35=様式１!$J$1,様式１!$J$15,\"\")","v":""},null,null,{"$f":"IF($C$30=\"\",\"\",様式１!$E$15)","v":""}]
[null,null,{"$f":"IF(様式１!$I$35=様式１!$J$1,様式１!$J$16,\"\")","v":""},null,null,{"$f":"IF($C$31=\"\",\"\",様式１!$E$16)","v":""}]
[]
["３　会　　場",null,{"$f":"様式１!$B$18","v":0}]
[null,null,{"$f":"様式１!$B$20","v":0},null,null,null,"TEL:",{"$f":"様式１!$G$18","v":0}]
[]
["４　そ の 他"]
["　　　・別紙により出張派遣の認否を電子メールまたはFAXでご回答ください。"]
[null,"e-mail",{"$f":"様式１!$F$9","v":0}]
[null,"FAX",{"$f":"様式１!$F$10","v":0}]
["　　　・交通費は県高体連で負担いたします。"]
[]
[]
[]
["（別紙）",null,null,null,null,null,"令和　　年　　月　　日"]
[]
[]
["広島県高等学校体育連盟"]
[{"$f":"様式１!$B$7","v":0}]
["部長",{"$f":"様式１!$B$8","v":""},null,"様"]
[]
[]
[null,null,null,null,null,{"$f":"様式１!$E$35&\"高等学校長\"","v":"高等学校長"}]
[]
[]
["引率外競技役員派遣について（回答）"]
[]
[]
["　下記大会の競技役員として，次の通り回答します。"]
[]
["大   会   名",null,null,{"$f":"C27","v":0}]
[]
["　競技役員氏名",null,null,{"$f":"D19","v":0}]
[]
["　↓該当するものに○をしてください。"]
["回答"]
[null,"　出張（交通費別途）を承認する",null,null,null,null,null,null,null,"○"]
[null,"　※交通費は高体連負担・公務災害での保険適用"]
[null,"　出張（交通費別途）を承認しない"]
[null,"　※交通費は高体連負担・高体連団体総合補償制度費用保険適用"]

{"sheet":"⑧","index":11,"n_rows":69,"n_cols":10,"rows_kept":69,"cut":false,"hidden":false,"merged":[[51,5,51,8],[47,0,47,2],[30,2,30,4],[32,0,32,1],[32,2,32,8],[33,2,33,5],[33,7,33,8],[59,3,60,8],[65,0,66,0],[54,0,54,8],[59,0,59,1],[61,0,61,1],[61,3,61,4],[64,1,64,8],[67,0,68,0],[0,6,0,8],[6,6,6,8],[7,6,7,8],[8,7,8,8],[29,2,29,4],[11,0,11,8],[18,3,18,4],[26,0,26,1],[28,0,28,1],[28,2,28,4],[35,0,35,1],[43,6,43,8],[46,0,46,2],[48,1,48,2],[26,2,27,8]]}
[null,null,null,null,null,null,{"$f":"様式１!$G$5","v":"00:00:00"},null,null,{"$f":"\"派遣依頼_\"&様式１!E37&\"_\"&様式１!C37","v":"派遣依頼__"}]
[]
[]
[{"$f":"様式１!$E$37&\"高等学校長　様\"","v":"高等学校長　様"}]
[]
[]
[null,null,null,null,null,null,"広島県高等学校体育連盟"]
[null,null,null,null,null,null,{"$f":"様式１!$B$7","v":0}]
[null,null,null,null,null,null,"部長",{"$f":"様式１!$B$8","v":""}]
[]
[]
["引率外競技役員派遣について（依頼）"]
[]
[]
["　平素から，本専門部の活動に，格別の御理解と御協力を賜り深く感謝申しあげます。"]
[]
["　さて，次のとおり大会を開催いたします。"]
[]
["　　つきましては，貴校　　　　　　　　　　",null,null,{"$f":"様式１!$C$37","v":0},null,"先生を競技役員に依頼いたします。"]
[]
["　　校務ご多用中とは存じますが，派遣方よろしくお願い申し上げます。"]
[]
["　　今後とも，本専門部の活動に，御理解と御協力を賜りますようお願いいたします。"]
[]
[]
[]
["１　大 会 名",null,{"$f":"様式１!$B$12","v":0}]
[]
["２　日　　時",null,{"$f":"IF(様式１!$G$37=様式１!$J$1,様式１!$J$14,\"\")","v":""},null,null,{"$f":"IF($C$29=\"\",\"\",様式１!$E$14)","v":""}]
[null,null,{"$f":"IF(様式１!$H$37=様式１!$J$1,様式１!$J$15,\"\")","v":""},null,null,{"$f":"IF($C$30=\"\",\"\",様式１!$E$15)","v":""}]
[null,null,{"$f":"IF(様式１!$I$37=様式１!$J$1,様式１!$J$16,\"\")","v":""},null,null,{"$f":"IF($C$31=\"\",\"\",様式１!$E$16)","v":""}]
[]
["３　会　　場",null,{"$f":"様式１!$B$18","v":0}]
[null,null,{"$f":"様式１!$B$20","v":0},null,null,null,"TEL:",{"$f":"様式１!$G$18","v":0}]
[]
["４　そ の 他"]
["　　　・別紙により出張派遣の認否を電子メールまたはFAXでご回答ください。"]
[null,"e-mail",{"$f":"様式１!$F$9","v":0}]
[null,"FAX",{"$f":"様式１!$F$10","v":0}]
["　　　・交通費は県高体連で負担いたします。"]
[]
[]
[]
["（別紙）",null,null,null,null,null,"令和　　年　　月　　日"]
[]
[]
["広島県高等学校体育連盟"]
[{"$f":"様式１!$B$7","v":0}]
["部長",{"$f":"様式１!$B$8","v":""},null,"様"]
[]
[]
[null,null,null,null,null,{"$f":"様式１!$E$37&\"高等学校長\"","v":"高等学校長"}]
[]
[]
["引率外競技役員派遣について（回答）"]
[]
[]
["　下記大会の競技役員として，次の通り回答します。"]
[]
["大   会   名",null,null,{"$f":"C27","v":0}]
[]
["　競技役員氏名",null,null,{"$f":"D19","v":0}]
[]
["　↓該当するものに○をしてください。"]
["回答"]
[null,"　出張（交通費別途）を承認する",null,null,null,null,null,null,null,"○"]
[null,"　※交通費は高体連負担・公務災害での保険適用"]
[null,"　出張（交通費別途）を承認しない"]
[null,"　※交通費は高体連負担・高体連団体総合補償制度費用保険適用"]

{"sheet":"⑨","index":12,"n_rows":69,"n_cols":10,"rows_kept":69,"cut":false,"hidden":false,"merged":[[51,5,51,8],[47,0,47,2],[30,2,30,4],[32,0,32,1],[32,2,32,8],[33,2,33,5],[33,7,33,8],[59,3,60,8],[65,0,66,0],[54,0,54,8],[59,0,59,1],[61,0,61,1],[61,3,61,4],[64,1,64,8],[67,0,68,0],[0,6,0,8],[6,6,6,8],[7,6,7,8],[8,7,8,8],[29,2,29,4],[11,0,11,8],[18,3,18,4],[26,0,26,1],[28,0,28,1],[28,2,28,4],[35,0,35,1],[43,6,43,8],[46,0,46,2],[48,1,48,2],[26,2,27,8]]}
[null,null,null,null,null,null,{"$f":"様式１!$G$5","v":"00:00:00"},null,null,{"$f":"\"派遣依頼_\"&様式１!E39&\"_\"&様式１!C39","v":"派遣依頼__"}]
[]
[]
[{"$f":"様式１!$E$39&\"高等学校長　様\"","v":"高等学校長　様"}]
[]
[]
[null,null,null,null,null,null,"広島県高等学校体育連盟"]
[null,null,null,null,null,null,{"$f":"様式１!$B$7","v":0}]
[null,null,null,null,null,null,"部長",{"$f":"様式１!$B$8","v":""}]
[]
[]
["引率外競技役員派遣について（依頼）"]
[]
[]
["　平素から，本専門部の活動に，格別の御理解と御協力を賜り深く感謝申しあげます。"]
[]
["　さて，次のとおり大会を開催いたします。"]
[]
["　　つきましては，貴校　　　　　　　　　　",null,null,{"$f":"様式１!$C$39","v":0},null,"先生を競技役員に依頼いたします。"]
[]
["　　校務ご多用中とは存じますが，派遣方よろしくお願い申し上げます。"]
[]
["　　今後とも，本専門部の活動に，御理解と御協力を賜りますようお願いいたします。"]
[]
[]
[]
["１　大 会 名",null,{"$f":"様式１!$B$12","v":0}]
[]
["２　日　　時",null,{"$f":"IF(様式１!$G$39=様式１!$J$1,様式１!$J$14,\"\")","v":""},null,null,{"$f":"IF($C$29=\"\",\"\",様式１!$E$14)","v":""}]
[null,null,{"$f":"IF(様式１!$H$39=様式１!$J$1,様式１!$J$15,\"\")","v":""},null,null,{"$f":"IF($C$30=\"\",\"\",様式１!$E$15)","v":""}]
[null,null,{"$f":"IF(様式１!$I$39=様式１!$J$1,様式１!$J$16,\"\")","v":""},null,null,{"$f":"IF($C$31=\"\",\"\",様式１!$E$16)","v":""}]
[]
["３　会　　場",null,{"$f":"様式１!$B$18","v":0}]
[null,null,{"$f":"様式１!$B$20","v":0},null,null,null,"TEL:",{"$f":"様式１!$G$18","v":0}]
[]
["４　そ の 他"]
["　　　・別紙により出張派遣の認否を電子メールまたはFAXでご回答ください。"]
[null,"e-mail",{"$f":"様式１!$F$9","v":0}]
[null,"FAX",{"$f":"様式１!$F$10","v":0}]
["　　　・交通費は県高体連で負担いたします。"]
[]
[]
[]
["（別紙）",null,null,null,null,null,"令和　　年　　月　　日"]
[]
[]
["広島県高等学校体育連盟"]
[{"$f":"様式１!$B$7","v":0}]
["部長",{"$f":"様式１!$B$8","v":""},null,"様"]
[]
[]
[null,null,null,null,null,{"$f":"様式１!$E$39&\"高等学校長\"","v":"高等学校長"}]
[]
[]
["引率外競技役員派遣について（回答）"]
[]
[]
["　下記大会の競技役員として，次の通り回答します。"]
[]
["大   会   名",null,null,{"$f":"C27","v":0}]
[]
["　競技役員氏名",null,null,{"$f":"D19","v":0}]
[]
["　↓該当するものに○をしてください。"]
["回答"]
[null,"　出張（交通費別途）を承認する",null,null,null,null,null,null,null,"○"]
[null,"　※交通費は高体連負担・公務災害での保険適用"]
[null,"　出張（交通費別途）を承認しない"]
[null,"　※交通費は高体連負担・高体連団体総合補償制度費用保険適用"]

{"sheet":"⑩","index":13,"n_rows":69,"n_cols":10,"rows_kept":69,"cut":false,"hidden":false,"merged":[[51,5,51,8],[47,0,47,2],[30,2,30,4],[32,0,32,1],[32,2,32,8],[33,2,33,5],[33,7,33,8],[59,3,60,8],[65,0,66,0],[54,0,54,8],[59,0,59,1],[61,0,61,1],[61,3,61,4],[64,1,64,8],[67,0,68,0],[0,6,0,8],[6,6,6,8],[7,6,7,8],[8,7,8,8],[29,2,29,4],[11,0,11,8],[18,3,18,4],[26,0,26,1],[28,0,28,1],[28,2,28,4],[35,0,35,1],[43,6,43,8],[46,0,46,2],[48,1,48,2],[26,2,27,8]]}
[null,null,null,null,null,null,{"$f":"様式１!$G$5","v":"00:00:00"},null,null,{"$f":"\"派遣依頼_\"&様式１!E41&\"_\"&様式１!C41","v":"派遣依頼__"}]
[]
[]
[{"$f":"様式１!$E$41&\"高等学校長　様\"","v":"高等学校長　様"}]
[]
[]
[null,null,null,null,null,null,"広島県高等学校体育連盟"]
[null,null,null,null,null,null,{"$f":"様式１!$B$7","v":0}]
[null,null,null,null,null,null,"部長",{"$f":"様式１!$B$8","v":""}]
[]
[]
["引率外競技役員派遣について（依頼）"]
[]
[]
["　平素から，本専門部の活動に，格別の御理解と御協力を賜り深く感謝申しあげます。"]
[]
["　さて，次のとおり大会を開催いたします。"]
[]
["　　つきましては，貴校　　　　　　　　　　",null,null,{"$f":"様式１!$C$41","v":0},null,"先生を競技役員に依頼いたします。"]
[]
["　　校務ご多用中とは存じますが，派遣方よろしくお願い申し上げます。"]
[]
["　　今後とも，本専門部の活動に，御理解と御協力を賜りますようお願いいたします。"]
[]
[]
[]
["１　大 会 名",null,{"$f":"様式１!$B$12","v":0}]
[]
["２　日　　時",null,{"$f":"IF(様式１!$G$41=様式１!$J$1,様式１!$J$14,\"\")","v":""},null,null,{"$f":"IF($C$29=\"\",\"\",様式１!$E$14)","v":""}]
[null,null,{"$f":"IF(様式１!$H$41=様式１!$J$1,様式１!$J$15,\"\")","v":""},null,null,{"$f":"IF($C$30=\"\",\"\",様式１!$E$15)","v":""}]
[null,null,{"$f":"IF(様式１!$I$41=様式１!$J$1,様式１!$J$16,\"\")","v":""},null,null,{"$f":"IF($C$31=\"\",\"\",様式１!$E$16)","v":""}]
[]
["３　会　　場",null,{"$f":"様式１!$B$18","v":0}]
[null,null,{"$f":"様式１!$B$20","v":0},null,null,null,"TEL:",{"$f":"様式１!$G$18","v":0}]
[]
["４　そ の 他"]
["　　　・別紙により出張派遣の認否を電子メールまたはFAXでご回答ください。"]
[null,"e-mail",{"$f":"様式１!$F$9","v":0}]
[null,"FAX",{"$f":"様式１!$F$10","v":0}]
["　　　・交通費は県高体連で負担いたします。"]
[]
[]
[]
["（別紙）",null,null,null,null,null,"令和　　年　　月　　日"]
[]
[]
["広島県高等学校体育連盟"]
[{"$f":"様式１!$B$7","v":0}]
["部長",{"$f":"様式１!$B$8","v":""},null,"様"]
[]
[]
[null,null,null,null,null,{"$f":"様式１!$E$41&\"高等学校長\"","v":"高等学校長"}]
[]
[]
["引率外競技役員派遣について（回答）"]
[]
[]
["　下記大会の競技役員として，次の通り回答します。"]
[]
["大   会   名",null,null,{"$f":"C27","v":0}]
[]
["　競技役員氏名",null,null,{"$f":"D19","v":0}]
[]
["　↓該当するものに○をしてください。"]
["回答"]
[null,"　出張（交通費別途）を承認する",null,null,null,null,null,null,null,"○"]
[null,"　※交通費は高体連負担・公務災害での保険適用"]
[null,"　出張（交通費別途）を承認しない"]
[null,"　※交通費は高体連負担・高体連団体総合補償制度費用保険適用"]