{"text_format":"1","workbook":"xlsx","n_sheets":3,"sheets":["提出用紙","Sheet2","Sheet1"],"not_rendered":{"charts":0,"images":0,"macros":1,"external_links":0,"defined_names":1,"comments":0,"pivot_tables":0},"unopened":[],"bounds":{"document_bytes":16777216,"sheet_cells":100000,"rows_first":2000,"rows_last":500,"rows_between":2000,"halvings":0,"cell_chars":16384,"cell_head_chars":4096},"cells_cut":0,"cells_raw":0,"read":"whole","date_system":"1900"}

{"sheet":"提出用紙","index":0,"n_rows":52,"n_cols":7,"rows_kept":52,"cut":false,"hidden":false,"merged":[[58,0,58,1],[59,0,59,1],[60,0,60,1],[58,2,58,3],[58,4,58,5],[59,2,59,3],[59,4,59,5],[60,2,60,3],[60,4,60,5],[55,0,55,1],[56,0,56,1],[57,0,57,1],[57,2,57,3],[57,4,57,5],[55,2,55,3],[55,4,55,5],[56,2,56,3],[56,4,56,5],[52,0,52,1],[53,0,53,1],[54,0,54,1],[52,2,52,3],[52,4,52,5],[53,2,53,3],[53,4,53,5],[54,2,54,3],[54,4,54,5],[48,0,48,1],[49,0,49,1],[51,0,51,1],[51,2,51,3],[51,4,51,5],[50,0,50,6],[48,2,48,3],[48,4,48,5],[49,2,49,3],[49,4,49,5],[45,0,45,1],[46,0,46,1],[47,0,47,1],[45,2,45,3],[45,4,45,5],[46,2,46,3],[46,4,46,5],[47,2,47,3],[47,4,47,5],[37,4,37,5],[39,0,39,2],[42,0,42,1],[43,0,43,1],[44,0,44,1],[43,2,43,3],[43,4,43,5],[44,2,44,3],[44,4,44,5],[40,2,40,3],[40,4,40,5],[41,4,41,5],[41,2,41,3],[42,2,42,3],[42,4,42,5],[40,0,40,1],[11,0,11,6],[41,0,41,1],[0,0,0,6],[1,0,1,6],[5,4,5,6],[14,2,14,3],[14,4,15,4],[14,5,15,5],[14,0,15,1],[14,6,15,6],[7,0,7,3],[16,0,16,1],[17,0,17,1],[34,0,34,6],[35,0,35,6],[3,4,3,5]]}
["令和　　年度"]
["広島県高等学校体育連盟専門部役員表"]
[]
[null,null,null,null,null,null,"専門部"]
[]
[null,null,null,null,"令和６年４月４日（木）提出締切"]
[]
["【記入上の注意】"]
["・便覧を作成するため、名前欄の姓、名を別々に入力してください"]
["・新任者又は勤務校変更は、リストから選択してください"]
["・専門部内の係（担当）等があれば、備考欄に記入してください"]
["・備考欄に新任者委員長の場合はメールアドレスと携帯番号、\n  新任者会計の場合はメールアドレスを入力してください"]
["・委員長を入れて１６名以内です"]
[]
["役職名",null,"名　　　前",null,"勤　務　校","新任者\n又は\n勤務校変更","備考"]
[null,null,"姓","名"]
["部　長"]
["委員長",null,null,null,null,null,"新任者委員長メールアドレス\n\n新任者委員長携帯番号\n"]
[1,"会計",null,null,null,null,"新任者会計メールアドレス\n"]
[2,"委員"]
[3,"委員"]
[4,"委員"]
[5,"委員"]
[6,"委員"]
[7,"委員"]
[8,"委員"]
[9,"委員"]
[10,"委員"]
[11,"委員"]
[12,"委員"]
[13,"委員"]
[14,"委員"]
[15,"委員"]
[]
[{"$f":"A1","v":"令和　　年度"}]
["広島県高等学校体育連盟専門部役員異動表"]
[]
[null,null,null,null,{"$f":"IF(E4=\"\",\"\",E4)","v":""},null,{"$f":"G4","v":"専門部"}]
[]
["○ 離　任　者"]
["役　員　名",null,"名　　　　前",null,"勤　　務　　校",null,"離任理由"]
[]
[]
[]
[]
[]
[]
[]
[]
[]
["○ 新　任　者"]
["役　員　名",null,"名　　　　前",null,"勤　　務　　校",null,"備考"]

{"sheet":"Sheet2","index":1,"n_rows":18,"n_cols":7,"rows_kept":18,"cut":false,"hidden":false,"merged":[[1,0,1,1],[2,0,2,1]]}
[null,null,"姓",null,"名",null,"勤務校"]
[{"$f":"提出用紙!A17","v":"部　長"},null,{"$f":"IF(提出用紙!C17=\"\",\"\",提出用紙!C17)","v":""},null,{"$f":"IF(提出用紙!D17=\"\",\"\",提出用紙!D17)","v":""},null,{"$f":"\"（\"&(IF(提出用紙!E17=\"\",\"\",提出用紙!E17)&\"）\")","v":"（）"}]
[{"$f":"提出用紙!A18","v":"委員長"},null,{"$f":"IF(提出用紙!C18=\"\",\"\",提出用紙!C18)","v":""},null,{"$f":"IF(提出用紙!D18=\"\",\"\",提出用紙!D18)","v":""},null,{"$f":"\"（\"&(IF(提出用紙!E18=\"\",\"\",提出用紙!E18)&\"）\")","v":"（）"}]
[{"$f":"提出用紙!A19","v":1},{"$f":"提出用紙!B19","v":"会計"},{"$f":"IF(提出用紙!C19=\"\",\"\",提出用紙!C19)","v":""},null,{"$f":"IF(提出用紙!D19=\"\",\"\",提出用紙!D19)","v":""},null,{"$f":"\"（\"&(IF(提出用紙!E19=\"\",\"\",提出用紙!E19)&\"）\")","v":"（）"}]
[{"$f":"提出用紙!A20","v":2},{"$f":"提出用紙!B20","v":"委員"},{"$f":"IF(提出用紙!C20=\"\",\"\",提出用紙!C20)","v":""},null,{"$f":"IF(提出用紙!D20=\"\",\"\",提出用紙!D20)","v":""},null,{"$f":"\"（\"&(IF(提出用紙!E20=\"\",\"\",提出用紙!E20)&\"）\")","v":"（）"}]
[{"$f":"提出用紙!A21","v":3},{"$f":"提出用紙!B21","v":"委員"},{"$f":"IF(提出用紙!C21=\"\",\"\",提出用紙!C21)","v":""},null,{"$f":"IF(提出用紙!D21=\"\",\"\",提出用紙!D21)","v":""},null,{"$f":"\"（\"&(IF(提出用紙!E21=\"\",\"\",提出用紙!E21)&\"）\")","v":"（）"}]
[{"$f":"提出用紙!A22","v":4},{"$f":"提出用紙!B22","v":"委員"},{"$f":"IF(提出用紙!C22=\"\",\"\",提出用紙!C22)","v":""},null,{"$f":"IF(提出用紙!D22=\"\",\"\",提出用紙!D22)","v":""},null,{"$f":"\"（\"&(IF(提出用紙!E22=\"\",\"\",提出用紙!E22)&\"）\")","v":"（）"}]
[{"$f":"提出用紙!A23","v":5},{"$f":"提出用紙!B23","v":"委員"},{"$f":"IF(提出用紙!C23=\"\",\"\",提出用紙!C23)","v":""},null,{"$f":"IF(提出用紙!D23=\"\",\"\",提出用紙!D23)","v":""},null,{"$f":"\"（\"&(IF(提出用紙!E23=\"\",\"\",提出用紙!E23)&\"）\")","v":"（）"}]
[{"$f":"提出用紙!A24","v":6},{"$f":"提出用紙!B24","v":"委員"},{"$f":"IF(提出用紙!C24=\"\",\"\",提出用紙!C24)","v":""},null,{"$f":"IF(提出用紙!D24=\"\",\"\",提出用紙!D24)","v":""},null,{"$f":"\"（\"&(IF(提出用紙!E24=\"\",\"\",提出用紙!E24)&\"）\")","v":"（）"}]
[{"$f":"提出用紙!A25","v":7},{"$f":"提出用紙!B25","v":"委員"},{"$f":"IF(提出用紙!C25=\"\",\"\",提出用紙!C25)","v":""},null,{"$f":"IF(提出用紙!D25=\"\",\"\",提出用紙!D25)","v":""},null,{"$f":"\"（\"&(IF(提出用紙!E25=\"\",\"\",提出用紙!E25)&\"）\")","v":"（）"}]
[{"$f":"提出用紙!A26","v":8},{"$f":"提出用紙!B26","v":"委員"},{"$f":"IF(提出用紙!C26=\"\",\"\",提出用紙!C26)","v":""},null,{"$f":"IF(提出用紙!D26=\"\",\"\",提出用紙!D26)","v":""},null,{"$f":"\"（\"&(IF(提出用紙!E26=\"\",\"\",提出用紙!E26)&\"）\")","v":"（）"}]
[{"$f":"提出用紙!A27","v":9},{"$f":"提出用紙!B27","v":"委員"},{"$f":"IF(提出用紙!C27=\"\",\"\",提出用紙!C27)","v":""},null,{"$f":"IF(提出用紙!D27=\"\",\"\",提出用紙!D27)","v":""},null,{"$f":"\"（\"&(IF(提出用紙!E27=\"\",\"\",提出用紙!E27)&\"）\")","v":"（）"}]
[{"$f":"提出用紙!A28","v":10},{"$f":"提出用紙!B28","v":"委員"},{"$f":"IF(提出用紙!C28=\"\",\"\",提出用紙!C28)","v":""},null,{"$f":"IF(提出用紙!D28=\"\",\"\",提出用紙!D28)","v":""},null,{"$f":"\"（\"&(IF(提出用紙!E28=\"\",\"\",提出用紙!E28)&\"）\")","v":"（）"}]
[{"$f":"提出用紙!A29","v":11},{"$f":"提出用紙!B29","v":"委員"},{"$f":"IF(提出用紙!C29=\"\",\"\",提出用紙!C29)","v":""},null,{"$f":"IF(提出用紙!D29=\"\",\"\",提出用紙!D29)","v":""},null,{"$f":"\"（\"&(IF(提出用紙!E29=\"\",\"\",提出用紙!E29)&\"）\")","v":"（）"}]
[{"$f":"提出用紙!A30","v":12},{"$f":"提出用紙!B30","v":"委員"},{"$f":"IF(提出用紙!C30=\"\",\"\",提出用紙!C30)","v":""},null,{"$f":"IF(提出用紙!D30=\"\",\"\",提出用紙!D30)","v":""},null,{"$f":"\"（\"&(IF(提出用紙!E30=\"\",\"\",提出用紙!E30)&\"）\")","v":"（）"}]
[{"$f":"提出用紙!A31","v":13},{"$f":"提出用紙!B31","v":"委員"},{"$f":"IF(提出用紙!C31=\"\",\"\",提出用紙!C31)","v":""},null,{"$f":"IF(提出用紙!D31=\"\",\"\",提出用紙!D31)","v":""},null,{"$f":"\"（\"&(IF(提出用紙!E31=\"\",\"\",提出用紙!E31)&\"）\")","v":"（）"}]
[{"$f":"提出用紙!A32","v":14},{"$f":"提出用紙!B32","v":"委員"},{"$f":"IF(提出用紙!C32=\"\",\"\",提出用紙!C32)","v":""},null,{"$f":"IF(提出用紙!D32=\"\",\"\",提出用紙!D32)","v":""},null,{"$f":"\"（\"&(IF(提出用紙!E32=\"\",\"\",提出用紙!E32)&\"）\")","v":"（）"}]
[{"$f":"提出用紙!A33","v":15},{"$f":"提出用紙!B33","v":"委員"},{"$f":"IF(提出用紙!C33=\"\",\"\",提出用紙!C33)","v":""},null,{"$f":"IF(提出用紙!D33=\"\",\"\",提出用紙!D33)","v":""},null,{"$f":"\"（\"&(IF(提出用紙!E33=\"\",\"\",提出用紙!E33)&\"）\")","v":"（）"}]

{"sheet":"Sheet1","index":2,"n_rows":20,"n_cols":5,"rows_kept":20,"cut":false,"hidden":false,"merged":[]}
[{"$f":"提出用紙!C17&\" \"&提出用紙!D17","v":" "},{"$f":"提出用紙!E17","v":0},null,{"$f":"提出用紙!C17&提出用紙!D17","v":""},{"$f":"提出用紙!E17","v":0}]
[{"$f":"提出用紙!C18&\" \"&提出用紙!D18","v":" "},{"$f":"提出用紙!E18","v":0},null,{"$f":"提出用紙!C18&提出用紙!D18","v":""},{"$f":"提出用紙!E18","v":0}]
[{"$f":"提出用紙!C19&\" \"&提出用紙!D19","v":" "},{"$f":"提出用紙!E19","v":0},null,{"$f":"提出用紙!C19&提出用紙!D19","v":""},{"$f":"提出用紙!E19","v":0}]
[{"$f":"提出用紙!C20&\" \"&提出用紙!D20","v":" "},{"$f":"提出用紙!E20","v":0},null,{"$f":"提出用紙!C20&提出用紙!D20","v":""},{"$f":"提出用紙!E20","v":0}]
[{"$f":"提出用紙!C21&\" \"&提出用紙!D21","v":" "},{"$f":"提出用紙!E21","v":0},null,{"$f":"提出用紙!C21&提出用紙!D21","v":""},{"$f":"提出用紙!E21","v":0}]
[{"$f":"提出用紙!C22&\" \"&提出用紙!D22","v":" "},{"$f":"提出用紙!E22","v":0},null,{"$f":"提出用紙!C22&提出用紙!D22","v":""},{"$f":"提出用紙!E22","v":0}]
[{"$f":"提出用紙!C23&\" \"&提出用紙!D23","v":" "},{"$f":"提出用紙!E23","v":0},null,{"$f":"提出用紙!C23&提出用紙!D23","v":""},{"$f":"提出用紙!E23","v":0}]
[{"$f":"提出用紙!C24&\" \"&提出用紙!D24","v":" "},{"$f":"提出用紙!E24","v":0},null,{"$f":"提出用紙!C24&提出用紙!D24","v":""},{"$f":"提出用紙!E24","v":0}]
[{"$f":"提出用紙!C25&\" \"&提出用紙!D25","v":" "},{"$f":"提出用紙!E25","v":0},null,{"$f":"提出用紙!C25&提出用紙!D25","v":""},{"$f":"提出用紙!E25","v":0}]
[{"$f":"提出用紙!C26&\" \"&提出用紙!D26","v":" "},{"$f":"提出用紙!E26","v":0},null,{"$f":"提出用紙!C26&提出用紙!D26","v":""},{"$f":"提出用紙!E26","v":0}]
[{"$f":"提出用紙!C27&\" \"&提出用紙!D27","v":" "},{"$f":"提出用紙!E27","v":0},null,{"$f":"提出用紙!C27&提出用紙!D27","v":""},{"$f":"提出用紙!E27","v":0}]
[{"$f":"提出用紙!C28&\" \"&提出用紙!D28","v":" "},{"$f":"提出用紙!E28","v":0},null,{"$f":"提出用紙!C28&提出用紙!D28","v":""},{"$f":"提出用紙!E28","v":0}]
[{"$f":"提出用紙!C29&\" \"&提出用紙!D29","v":" "},{"$f":"提出用紙!E29","v":0},null,{"$f":"提出用紙!C29&提出用紙!D29","v":""},{"$f":"提出用紙!E29","v":0}]
[{"$f":"提出用紙!C30&\" \"&提出用紙!D30","v":" "},{"$f":"提出用紙!E30","v":0},null,{"$f":"提出用紙!C30&提出用紙!D30","v":""},{"$f":"提出用紙!E30","v":0}]
[{"$f":"提出用紙!C31&\" \"&提出用紙!D31","v":" "},{"$f":"提出用紙!E31","v":0},null,{"$f":"提出用紙!C31&提出用紙!D31","v":""},{"$f":"提出用紙!E31","v":0}]
[{"$f":"提出用紙!C32&\" \"&提出用紙!D32","v":" "},{"$f":"提出用紙!E32","v":0},null,{"$f":"提出用紙!C32&提出用紙!D32","v":""},{"$f":"提出用紙!E32","v":0}]
[{"$f":"提出用紙!C33&\" \"&提出用紙!D33","v":" "},{"$f":"提出用紙!E33","v":0},null,{"$f":"提出用紙!C33&提出用紙!D33","v":""},{"$f":"提出用紙!E33","v":0}]
[{"$f":"提出用紙!C34&\" \"&提出用紙!D34","v":" "},{"$f":"提出用紙!E34","v":0},null,{"$f":"提出用紙!C34&提出用紙!D34","v":""},{"$f":"提出用紙!E34","v":0}]
[{"$f":"提出用紙!C35&\" \"&提出用紙!D35","v":" "},{"$f":"提出用紙!E35","v":0},null,{"$f":"提出用紙!C35&提出用紙!D35","v":""},{"$f":"提出用紙!E35","v":0}]
[{"$f":"提出用紙!C36&\" \"&提出用紙!D36","v":" "},{"$f":"提出用紙!E36","v":0},null,{"$f":"提出用紙!C36&提出用紙!D36","v":""},{"$f":"提出用紙!E36","v":0}]